BEGIN:VCALENDAR
VERSION:2.0
PRODID:-//Refreshing Streams Ministries - ECPv6.15.20//NONSGML v1.0//EN
CALSCALE:GREGORIAN
METHOD:PUBLISH
X-ORIGINAL-URL:https://refreshingstreamsministries.org
X-WR-CALDESC:Events for Refreshing Streams Ministries
REFRESH-INTERVAL;VALUE=DURATION:PT1H
X-Robots-Tag:noindex
X-PUBLISHED-TTL:PT1H
BEGIN:VTIMEZONE
TZID:UTC
BEGIN:STANDARD
TZOFFSETFROM:+0000
TZOFFSETTO:+0000
TZNAME:UTC
DTSTART:20250101T000000
END:STANDARD
END:VTIMEZONE
BEGIN:VEVENT
DTSTART;TZID=UTC:20260612T000000
DTEND;TZID=UTC:20261204T235959
DTSTAMP:20260425T121043
CREATED:20260304T091646Z
LAST-MODIFIED:20260304T091647Z
UID:4688-1781222400-1796428799@refreshingstreamsministries.org
SUMMARY:POTENTIAL Refreshing Day Weekend workshop in Whakatane: "Artisan Extravaganza"
DESCRIPTION:NO DATE AS YET ARRANGED \n\n\n\n\n\n“I can still recall the day\, seven years ago\, when I had a ‘fizz\, pop’ experience while praying about the dreams Abba Father had placed in me\,” recalls Barbara. “I would love to gather a small group of Christian Artisans [any form of creativity] together for a weekend\, to see what Holy Spirit will release from within our DNA.”Does this excite you also? If interested\, see below. \n\n\n\nArtisan Extravaganza
URL:https://refreshingstreamsministries.org/event/potential-refreshing-day-weekend-workshop-in-whakatane-artisan-extravaganza/
END:VEVENT
END:VCALENDAR