BEGIN:VCALENDAR
VERSION:2.0
PRODID:-//Refreshing Streams Ministries - ECPv6.15.20//NONSGML v1.0//EN
CALSCALE:GREGORIAN
METHOD:PUBLISH
X-WR-CALNAME:Refreshing Streams Ministries
X-ORIGINAL-URL:https://refreshingstreamsministries.org
X-WR-CALDESC:Events for Refreshing Streams Ministries
REFRESH-INTERVAL;VALUE=DURATION:PT1H
X-Robots-Tag:noindex
X-PUBLISHED-TTL:PT1H
BEGIN:VTIMEZONE
TZID:UTC
BEGIN:STANDARD
TZOFFSETFROM:+0000
TZOFFSETTO:+0000
TZNAME:UTC
DTSTART:20220101T000000
END:STANDARD
END:VTIMEZONE
BEGIN:VEVENT
DTSTART;TZID=UTC:20251213T203000
DTEND;TZID=UTC:20251213T220000
DTSTAMP:20260425T130148
CREATED:20251125T084053Z
LAST-MODIFIED:20251126T044206Z
UID:4252-1765657800-1765663200@refreshingstreamsministries.org
SUMMARY:Refreshing Day online workshop: "Finding Our IDENTITY Through The Life of The ONE Born In Bethlehem." private  session
DESCRIPTION:A private online session with a small group of women from an International Mission organisation. Koha remuneration
URL:https://refreshingstreamsministries.org/event/refreshing-day-online-workshop-finding-our-identity-through-the-life-of-the-one-born-in-bethlehem/
END:VEVENT
BEGIN:VEVENT
DTSTART;TZID=UTC:20251101T094500
DTEND;TZID=UTC:20251101T150000
DTSTAMP:20260425T130148
CREATED:20250525T223702Z
LAST-MODIFIED:20250925T015541Z
UID:3030-1761990300-1762009200@refreshingstreamsministries.org
SUMMARY:Refreshing Day workshop in Ngaruawahia: "HEART MATTERS" -  1st November\, 2025
DESCRIPTION:Needing extended time aside with the Lover & Healer of your Heart? Come and join a small group of women for this day of refreshing. \n\n\n\n\n\nDownload Brochure
URL:https://refreshingstreamsministries.org/event/refreshing-day-workshop-in-ngaruawahia-heart-matters/
END:VEVENT
BEGIN:VEVENT
DTSTART;TZID=UTC:20250222T100000
DTEND;TZID=UTC:20250222T140000
DTSTAMP:20260425T130148
CREATED:20250407T025510Z
LAST-MODIFIED:20250407T025510Z
UID:2979-1740218400-1740232800@refreshingstreamsministries.org
SUMMARY:Refreshing Day workshop in Hamilton: "BESIDE STILL WATERS"
DESCRIPTION:Saturday\, February 22\, 2025 \n\n\n\n\n\nFeb 22nd is planned for a private group
URL:https://refreshingstreamsministries.org/event/refreshing-day-workshop-in-hamilton-beside-still-waters/
END:VEVENT
BEGIN:VEVENT
DTSTART;TZID=UTC:20250101T000000
DTEND;TZID=UTC:20251231T235959
DTSTAMP:20260425T130148
CREATED:20251125T191833Z
LAST-MODIFIED:20251125T191834Z
UID:3969-1735689600-1767225599@refreshingstreamsministries.org
SUMMARY:Refreshing Days 2026
DESCRIPTION:Programme pending.  \n\n\n\nContact Barbara if you would like to host a Refreshing Day [minimum of 6 required]. \n\n\n\nFor further information see ‘Refreshing Day’ page. \n\n\n\n\n\nFor 2026\, as prompted by Holy Spirit\, Barbara is inviting those interested in attending or hosting a Workshop\, to contact her. “This has stretched my ‘planning’ default!” exclaims Barbara.Event time: 9.45am – 4pm \n\n\n\nEvent cost: $70.00 per person includes a non-refundable $20.00 Booking fee\, refreshments & resources. [BYO lunch]. Sponsorship is available & encouraged. \n\n\n\nSee Upcoming Events for each individual Refreshing Day \n\n\n\nUpcoming Events\n\n\n\nDownload Brochure for distribution \n\n\n\nDownload 2026 Brochure
URL:https://refreshingstreamsministries.org/event/refreshing-days-2026/
END:VEVENT
BEGIN:VEVENT
DTSTART;TZID=UTC:20250101T000000
DTEND;TZID=UTC:20251231T235959
DTSTAMP:20260425T130148
CREATED:20250125T061649Z
LAST-MODIFIED:20251119T235712Z
UID:2719-1735689600-1767225599@refreshingstreamsministries.org
SUMMARY:Refreshing Days 2025
DESCRIPTION:Programme pending.  \n\n\n\nContact Barbara if you would like to host a Refreshing Day [minimum of 6 required]. \n\n\n\nFor further information see ‘Refreshing Day’ page. \n\n\n\n\n\nFor 2025\, as prompted by Holy Spirit\, Barbara is inviting those interested in attending or hosting a Workshop\, to contact her. “This has stretched my ‘planning’ default!” exclaims Barbara.Download Brochure for distribution. See Upcoming Events for individual Refreshing Day brochures.
URL:https://refreshingstreamsministries.org/event/refreshing-days-2025/
END:VEVENT
BEGIN:VEVENT
DTSTART;TZID=UTC:20241116T093000
DTEND;TZID=UTC:20241116T150000
DTSTAMP:20260425T130148
CREATED:20240214T070930Z
LAST-MODIFIED:20260310T193308Z
UID:1848-1731749400-1731769200@refreshingstreamsministries.org
SUMMARY:Refreshing Day workshop in Hamilton: "OASIS"
DESCRIPTION:“Oasis” – a parched soul longing for water – the ‘Living Water’ [CANCELLED Sorry! Resuming in 2025]
URL:https://refreshingstreamsministries.org/event/refreshing-day-workshop-in-hamilton-4/
END:VEVENT
BEGIN:VEVENT
DTSTART;TZID=UTC:20240921T093000
DTEND;TZID=UTC:20240921T150000
DTSTAMP:20260425T130148
CREATED:20240214T070855Z
LAST-MODIFIED:20240806T035756Z
UID:1846-1726911000-1726930800@refreshingstreamsministries.org
SUMMARY:Refreshing Day workshop in Hamilton: "A Garden Enclosed"
DESCRIPTION:Learn More\n\nDownload Brochure
URL:https://refreshingstreamsministries.org/event/refreshing-day-workshop-in-hamilton-3/
END:VEVENT
BEGIN:VEVENT
DTSTART;TZID=UTC:20240727T093000
DTEND;TZID=UTC:20240727T150000
DTSTAMP:20260425T130148
CREATED:20240214T070753Z
LAST-MODIFIED:20240806T035238Z
UID:1844-1722072600-1722092400@refreshingstreamsministries.org
SUMMARY:Refreshing Day workshop in Hamilton. Theme: "Beside Still Waters"
DESCRIPTION:Learn More\n\nDownload Brochure
URL:https://refreshingstreamsministries.org/event/refreshing-day-workshop-in-hamilton-2/
END:VEVENT
BEGIN:VEVENT
DTSTART;TZID=UTC:20240504T093000
DTEND;TZID=UTC:20240504T150000
DTSTAMP:20260425T130148
CREATED:20240214T070613Z
LAST-MODIFIED:20240806T035212Z
UID:1842-1714815000-1714834800@refreshingstreamsministries.org
SUMMARY:Refreshing Day workshop in Hamilton: Theme: "WAITING"
DESCRIPTION:Learn More\n\nDownload Brochure
URL:https://refreshingstreamsministries.org/event/refreshing-day-workshop-in-hamilton/
END:VEVENT
BEGIN:VEVENT
DTSTART;TZID=UTC:20230805T093000
DTEND;TZID=UTC:20230805T150000
DTSTAMP:20260425T130148
CREATED:20231029T000631Z
LAST-MODIFIED:20240222T000431Z
UID:1497-1691227800-1691247600@refreshingstreamsministries.org
SUMMARY:Refreshing Day\, 5 August\, Hamilton: Theme: "Heart Matters"
DESCRIPTION:Learn More\n\nDownload Brochure
URL:https://refreshingstreamsministries.org/event/refreshing-day-5-august-hamilton-theme-heart-matters/
END:VEVENT
BEGIN:VEVENT
DTSTART;TZID=UTC:20230426T093000
DTEND;TZID=UTC:20230426T150000
DTSTAMP:20260425T130148
CREATED:20231029T000547Z
LAST-MODIFIED:20240222T000325Z
UID:1495-1682501400-1682521200@refreshingstreamsministries.org
SUMMARY:Refreshing Day\, 26 April\, Hamilton: Theme: "Living Stones"
DESCRIPTION:
URL:https://refreshingstreamsministries.org/event/efreshing-day-26-april-hamilton-theme-living-stones/
END:VEVENT
BEGIN:VEVENT
DTSTART;TZID=UTC:20230318T190000
DTEND;TZID=UTC:20230318T210000
DTSTAMP:20260425T130148
CREATED:20231029T000454Z
LAST-MODIFIED:20231110T020944Z
UID:1493-1679166000-1679173200@refreshingstreamsministries.org
SUMMARY:Art-in-Mission online workshop (International organisation): 18 March: Theme "Treasures in Darkness"
DESCRIPTION:
URL:https://refreshingstreamsministries.org/event/art-in-mission-online-workshop-international-organisation-18-march-theme-treasures-in-darkness/
END:VEVENT
END:VCALENDAR