BEGIN:VCALENDAR
VERSION:2.0
PRODID:-//Refreshing Streams Ministries - ECPv6.15.20//NONSGML v1.0//EN
CALSCALE:GREGORIAN
METHOD:PUBLISH
X-ORIGINAL-URL:https://refreshingstreamsministries.org
X-WR-CALDESC:Events for Refreshing Streams Ministries
REFRESH-INTERVAL;VALUE=DURATION:PT1H
X-Robots-Tag:noindex
X-PUBLISHED-TTL:PT1H
BEGIN:VTIMEZONE
TZID:UTC
BEGIN:STANDARD
TZOFFSETFROM:+0000
TZOFFSETTO:+0000
TZNAME:UTC
DTSTART:20250101T000000
END:STANDARD
END:VTIMEZONE
BEGIN:VEVENT
DTSTART;TZID=UTC:20260228T094500
DTEND;TZID=UTC:20260228T160000
DTSTAMP:20260418T015140
CREATED:20251125T191355Z
LAST-MODIFIED:20251125T191355Z
UID:3973-1772271900-1772294400@refreshingstreamsministries.org
SUMMARY:Refreshing Day workshop in Ngaruawahia: "TREASURES IN DARKNESS" -  28 February\, 2026
DESCRIPTION:Needing extended time aside with the Lover & Healer of your Heart? Come and join a small group of women for this day of refreshing. \n\n\n\nEvent cost: $70.00 per person includes a $20.00 non-refundable Booking fee\, refreshments [BYO lunch] & resources. Sponsorship available & encouraged \n\n\n\n \n\n\n\n \n\n\n\nDownload Brochure for distribution. \n\n\n\n \n\n\n\nDownload Brochure
URL:https://refreshingstreamsministries.org/event/refreshing-day-workshop-in-ngaruawahia-treasures-in-darkness-28-february-2026/
END:VEVENT
END:VCALENDAR