BEGIN:VCALENDAR
VERSION:2.0
PRODID:-//Refreshing Streams Ministries - ECPv6.15.20//NONSGML v1.0//EN
CALSCALE:GREGORIAN
METHOD:PUBLISH
X-ORIGINAL-URL:https://refreshingstreamsministries.org
X-WR-CALDESC:Events for Refreshing Streams Ministries
REFRESH-INTERVAL;VALUE=DURATION:PT1H
X-Robots-Tag:noindex
X-PUBLISHED-TTL:PT1H
BEGIN:VTIMEZONE
TZID:UTC
BEGIN:STANDARD
TZOFFSETFROM:+0000
TZOFFSETTO:+0000
TZNAME:UTC
DTSTART:20250101T000000
END:STANDARD
END:VTIMEZONE
BEGIN:VEVENT
DTSTART;TZID=UTC:20260213T180000
DTEND;TZID=UTC:20260215T130000
DTSTAMP:20260425T021000
CREATED:20250407T023231Z
LAST-MODIFIED:20251125T072825Z
UID:2974-1771005600-1771160400@refreshingstreamsministries.org
SUMMARY:Refreshing Day Weekend workshop  in Whakatane: "HEART MATTERS" February 13-15\, 2026
DESCRIPTION:Needing extended time aside with the Lover of your Heart? Come and join a small group of women for this refreshing weekend. Barbara and Joy are honoured to co-facilitate this special event. Due to demand\, this is a repeat weekend from September 2025.“It is 29 years since I first experienced this beautiful setting\,” recalls Barbara. “It was my first personal retreat experience while in recovery from burnout. I attended a further time following a personal bereavement\, little knowing Holy Spirit would open this door to facilitate my own group Workshop!” \n\n\n\nREGISTRATION via Titoki Administrator. Learn More belowPrice of the retreat includes meals\, accommodation\, facilitators fee\, and resources:Private room with ensuite: $380Private room with shared bathroom: $350Share an ensuite room with a friend: $340 pp \n\n\n\n\n\nLearn More
URL:https://refreshingstreamsministries.org/event/refreshing-day-weekend-workshop-in-whakatane-heart-matters/
END:VEVENT
END:VCALENDAR